BEGIN:VCALENDAR
VERSION:2.0
PRODID:-//Paróquia de Canidelo - ECPv6.15.20//NONSGML v1.0//EN
CALSCALE:GREGORIAN
METHOD:PUBLISH
X-ORIGINAL-URL:https://paroquiadecanidelo.pt
X-WR-CALDESC:Eventos para Paróquia de Canidelo
REFRESH-INTERVAL;VALUE=DURATION:PT1H
X-Robots-Tag:noindex
X-PUBLISHED-TTL:PT1H
BEGIN:VTIMEZONE
TZID:UTC
BEGIN:STANDARD
TZOFFSETFROM:+0000
TZOFFSETTO:+0000
TZNAME:UTC
DTSTART:20240101T000000
END:STANDARD
END:VTIMEZONE
BEGIN:VEVENT
DTSTART;VALUE=DATE:20250501
DTEND;VALUE=DATE:20250502
DTSTAMP:20260424T223103
CREATED:20241029T180221Z
LAST-MODIFIED:20241029T180221Z
UID:41039-1746057600-1746143999@paroquiadecanidelo.pt
SUMMARY:Peregrinação Nacional de Acólitos a Fátima
DESCRIPTION:
URL:https://paroquiadecanidelo.pt/evento/peregrinacao-nacional-de-acolitos-a-fatima/
LOCATION:Canidelo
CATEGORIES:Agenda Diocesana 2024/2025
END:VEVENT
BEGIN:VEVENT
DTSTART;VALUE=DATE:20250504
DTEND;VALUE=DATE:20250505
DTSTAMP:20260424T223103
CREATED:20241029T180238Z
LAST-MODIFIED:20241029T180238Z
UID:41040-1746316800-1746403199@paroquiadecanidelo.pt
SUMMARY:Jubileu do mundo universitário
DESCRIPTION:
URL:https://paroquiadecanidelo.pt/evento/jubileu-do-mundo-universitario/
LOCATION:Canidelo
CATEGORIES:Agenda Diocesana 2024/2025
END:VEVENT
BEGIN:VEVENT
DTSTART;VALUE=DATE:20250504
DTEND;VALUE=DATE:20250512
DTSTAMP:20260424T223103
CREATED:20241029T180305Z
LAST-MODIFIED:20241029T180305Z
UID:41041-1746316800-1747007999@paroquiadecanidelo.pt
SUMMARY:Semana de Oração pelas Vocações
DESCRIPTION:
URL:https://paroquiadecanidelo.pt/evento/semana-de-oracao-pelas-vocacoes/
LOCATION:Canidelo
CATEGORIES:Agenda Diocesana 2024/2025
END:VEVENT
BEGIN:VEVENT
DTSTART;VALUE=DATE:20250511
DTEND;VALUE=DATE:20250512
DTSTAMP:20260424T223103
CREATED:20241029T180332Z
LAST-MODIFIED:20241029T180332Z
UID:41042-1746921600-1747007999@paroquiadecanidelo.pt
SUMMARY:Domingo do Bom Pastor
DESCRIPTION:
URL:https://paroquiadecanidelo.pt/evento/domingo-do-bom-pastor-2/
LOCATION:Canidelo
CATEGORIES:Agenda Diocesana 2024/2025
END:VEVENT
BEGIN:VEVENT
DTSTART;VALUE=DATE:20250511
DTEND;VALUE=DATE:20250512
DTSTAMP:20260424T223103
CREATED:20241029T180356Z
LAST-MODIFIED:20241029T180356Z
UID:41043-1746921600-1747007999@paroquiadecanidelo.pt
SUMMARY:62.º Dia Mundial de Oração pelas Vocações
DESCRIPTION:
URL:https://paroquiadecanidelo.pt/evento/62-o-dia-mundial-de-oracao-pelas-vocacoes/
LOCATION:Canidelo
CATEGORIES:Agenda Diocesana 2024/2025
END:VEVENT
BEGIN:VEVENT
DTSTART;VALUE=DATE:20250524
DTEND;VALUE=DATE:20250525
DTSTAMP:20260424T223103
CREATED:20241029T180433Z
LAST-MODIFIED:20241029T180433Z
UID:41044-1748044800-1748131199@paroquiadecanidelo.pt
SUMMARY:Jubileu da Catequese
DESCRIPTION:
URL:https://paroquiadecanidelo.pt/evento/jubileu-da-catequese/
LOCATION:Canidelo
CATEGORIES:Agenda Diocesana 2024/2025
END:VEVENT
BEGIN:VEVENT
DTSTART;VALUE=DATE:20250525
DTEND;VALUE=DATE:20250526
DTSTAMP:20260424T223103
CREATED:20241029T180506Z
LAST-MODIFIED:20241029T180506Z
UID:41045-1748131200-1748217599@paroquiadecanidelo.pt
SUMMARY:Festa das Missões
DESCRIPTION:
URL:https://paroquiadecanidelo.pt/evento/festa-das-missoes-2/
LOCATION:Canidelo
CATEGORIES:Agenda Diocesana 2024/2025
END:VEVENT
BEGIN:VEVENT
DTSTART;VALUE=DATE:20250529
DTEND;VALUE=DATE:20250530
DTSTAMP:20260424T223103
CREATED:20241029T180528Z
LAST-MODIFIED:20241029T180528Z
UID:41046-1748476800-1748563199@paroquiadecanidelo.pt
SUMMARY:Jubileu do Movimento dos Cursilhos de Cristandade
DESCRIPTION:
URL:https://paroquiadecanidelo.pt/evento/jubileu-do-movimento-dos-cursilhos-de-cristandade/
LOCATION:Canidelo
CATEGORIES:Agenda Diocesana 2024/2025
END:VEVENT
END:VCALENDAR