BEGIN:VCALENDAR
VERSION:2.0
PRODID:-//Paróquia de Canidelo - ECPv6.15.20//NONSGML v1.0//EN
CALSCALE:GREGORIAN
METHOD:PUBLISH
X-ORIGINAL-URL:https://paroquiadecanidelo.pt
X-WR-CALDESC:Eventos para Paróquia de Canidelo
REFRESH-INTERVAL;VALUE=DURATION:PT1H
X-Robots-Tag:noindex
X-PUBLISHED-TTL:PT1H
BEGIN:VTIMEZONE
TZID:UTC
BEGIN:STANDARD
TZOFFSETFROM:+0000
TZOFFSETTO:+0000
TZNAME:UTC
DTSTART:20240101T000000
END:STANDARD
END:VTIMEZONE
BEGIN:VEVENT
DTSTART;VALUE=DATE:20250601
DTEND;VALUE=DATE:20250602
DTSTAMP:20260424T205845
CREATED:20241029T180551Z
LAST-MODIFIED:20241029T180551Z
UID:41047-1748736000-1748822399@paroquiadecanidelo.pt
SUMMARY:Solenidade da Ascensão do Senhor
DESCRIPTION:
URL:https://paroquiadecanidelo.pt/evento/solenidade-da-ascensao-do-senhor/
LOCATION:Canidelo
CATEGORIES:Agenda Diocesana 2024/2025
END:VEVENT
BEGIN:VEVENT
DTSTART;VALUE=DATE:20250601
DTEND;VALUE=DATE:20250602
DTSTAMP:20260424T205845
CREATED:20241029T180617Z
LAST-MODIFIED:20241029T180617Z
UID:41048-1748736000-1748822399@paroquiadecanidelo.pt
SUMMARY:59.º Dia Mundial das Comunicações Sociais
DESCRIPTION:
URL:https://paroquiadecanidelo.pt/evento/59-o-dia-mundial-das-comunicacoes-sociais/
LOCATION:Canidelo
CATEGORIES:Agenda Diocesana 2024/2025
END:VEVENT
BEGIN:VEVENT
DTSTART;VALUE=DATE:20250608
DTEND;VALUE=DATE:20250609
DTSTAMP:20260424T205845
CREATED:20241029T180637Z
LAST-MODIFIED:20241029T180637Z
UID:41049-1749340800-1749427199@paroquiadecanidelo.pt
SUMMARY:Solenidade do Pentecostes
DESCRIPTION:
URL:https://paroquiadecanidelo.pt/evento/solenidade-do-pentecostes/
LOCATION:Canidelo
CATEGORIES:Agenda Diocesana 2024/2025
END:VEVENT
BEGIN:VEVENT
DTSTART;TZID=UTC:20250613T213000
DTEND;TZID=UTC:20250613T230000
DTSTAMP:20260424T205845
CREATED:20241114T095735Z
LAST-MODIFIED:20241114T095735Z
UID:41107-1749850200-1749855600@paroquiadecanidelo.pt
SUMMARY:Oração Taizé
DESCRIPTION:
URL:https://paroquiadecanidelo.pt/evento/oracao-taize-6/
LOCATION:Igreja Matriz Canidelo\, Largo de Santo André\, Vila Nova de Gaia\, Canidelo\, 4400-576 Vila Nova de Gaia\, Portugal
CATEGORIES:Agenda Diocesana 2024/2025
END:VEVENT
BEGIN:VEVENT
DTSTART;VALUE=DATE:20250614
DTEND;VALUE=DATE:20250615
DTSTAMP:20260424T205845
CREATED:20241029T180659Z
LAST-MODIFIED:20241029T180659Z
UID:41050-1749859200-1749945599@paroquiadecanidelo.pt
SUMMARY:Jubileu dos Frágeis e do Mundo da Saúde
DESCRIPTION:
URL:https://paroquiadecanidelo.pt/evento/jubileu-dos-frageis-e-do-mundo-da-saude/
LOCATION:Canidelo
CATEGORIES:Agenda Diocesana 2024/2025
END:VEVENT
BEGIN:VEVENT
DTSTART;VALUE=DATE:20250615
DTEND;VALUE=DATE:20250616
DTSTAMP:20260424T205845
CREATED:20241029T180716Z
LAST-MODIFIED:20241029T180716Z
UID:41051-1749945600-1750031999@paroquiadecanidelo.pt
SUMMARY:Solenidade da Santíssima Trindade
DESCRIPTION:
URL:https://paroquiadecanidelo.pt/evento/solenidade-da-santissima-trindade/
LOCATION:Canidelo
CATEGORIES:Agenda Diocesana 2024/2025
END:VEVENT
BEGIN:VEVENT
DTSTART;VALUE=DATE:20250615
DTEND;VALUE=DATE:20250616
DTSTAMP:20260424T205845
CREATED:20241029T180739Z
LAST-MODIFIED:20241029T180739Z
UID:41052-1749945600-1750031999@paroquiadecanidelo.pt
SUMMARY:Jubileu das Famílias
DESCRIPTION:
URL:https://paroquiadecanidelo.pt/evento/jubileu-das-familias/
LOCATION:Canidelo
CATEGORIES:Agenda Diocesana 2024/2025
END:VEVENT
BEGIN:VEVENT
DTSTART;VALUE=DATE:20250615
DTEND;VALUE=DATE:20250616
DTSTAMP:20260424T205845
CREATED:20241029T180838Z
LAST-MODIFIED:20241029T180838Z
UID:41054-1749945600-1750031999@paroquiadecanidelo.pt
SUMMARY:24.º Dia Diocesano da Família
DESCRIPTION:
URL:https://paroquiadecanidelo.pt/evento/24-o-dia-diocesano-da-familia/
LOCATION:Canidelo
CATEGORIES:Agenda Diocesana 2024/2025
END:VEVENT
BEGIN:VEVENT
DTSTART;VALUE=DATE:20250619
DTEND;VALUE=DATE:20250620
DTSTAMP:20260424T205845
CREATED:20241029T180811Z
LAST-MODIFIED:20241029T180811Z
UID:41053-1750291200-1750377599@paroquiadecanidelo.pt
SUMMARY:Solenidade do Santíssimo Corpo e Sangue de Cristo
DESCRIPTION:
URL:https://paroquiadecanidelo.pt/evento/solenidade-do-santissimo-corpo-e-sangue-de-cristo/
LOCATION:Canidelo
CATEGORIES:Agenda Diocesana 2024/2025
END:VEVENT
END:VCALENDAR