BEGIN:VCALENDAR
VERSION:2.0
PRODID:-//Paróquia de Canidelo - ECPv6.15.20//NONSGML v1.0//EN
CALSCALE:GREGORIAN
METHOD:PUBLISH
X-WR-CALNAME:Paróquia de Canidelo
X-ORIGINAL-URL:https://paroquiadecanidelo.pt
X-WR-CALDESC:Eventos para Paróquia de Canidelo
REFRESH-INTERVAL;VALUE=DURATION:PT1H
X-Robots-Tag:noindex
X-PUBLISHED-TTL:PT1H
BEGIN:VTIMEZONE
TZID:UTC
BEGIN:STANDARD
TZOFFSETFROM:+0000
TZOFFSETTO:+0000
TZNAME:UTC
DTSTART:20240101T000000
END:STANDARD
END:VTIMEZONE
BEGIN:VEVENT
DTSTART;VALUE=DATE:20250920
DTEND;VALUE=DATE:20250921
DTSTAMP:20260424T163424
CREATED:20241029T180930Z
LAST-MODIFIED:20241029T180930Z
UID:41056-1758326400-1758412799@paroquiadecanidelo.pt
SUMMARY:Peregrinação Diocesana a Fátima
DESCRIPTION:
URL:https://paroquiadecanidelo.pt/evento/peregrinacao-diocesana-a-fatima/
LOCATION:Canidelo
CATEGORIES:Agenda Diocesana 2024/2025
END:VEVENT
BEGIN:VEVENT
DTSTART;VALUE=DATE:20250928
DTEND;VALUE=DATE:20250929
DTSTAMP:20260424T163424
CREATED:20241029T180953Z
LAST-MODIFIED:20241029T180953Z
UID:41057-1759017600-1759103999@paroquiadecanidelo.pt
SUMMARY:Jubileu dos Migrantes e Refugiados
DESCRIPTION:
URL:https://paroquiadecanidelo.pt/evento/jubileu-dos-migrantes-e-refugiados/
LOCATION:Canidelo
CATEGORIES:Agenda Diocesana 2024/2025
END:VEVENT
END:VCALENDAR