BEGIN:VCALENDAR
VERSION:2.0
PRODID:-//Paróquia de Canidelo - ECPv6.15.20//NONSGML v1.0//EN
CALSCALE:GREGORIAN
METHOD:PUBLISH
X-WR-CALNAME:Paróquia de Canidelo
X-ORIGINAL-URL:https://paroquiadecanidelo.pt
X-WR-CALDESC:Eventos para Paróquia de Canidelo
REFRESH-INTERVAL;VALUE=DURATION:PT1H
X-Robots-Tag:noindex
X-PUBLISHED-TTL:PT1H
BEGIN:VTIMEZONE
TZID:UTC
BEGIN:STANDARD
TZOFFSETFROM:+0000
TZOFFSETTO:+0000
TZNAME:UTC
DTSTART:20240101T000000
END:STANDARD
END:VTIMEZONE
BEGIN:VEVENT
DTSTART;TZID=UTC:20250328T000000
DTEND;TZID=UTC:20250329T000000
DTSTAMP:20260425T031017
CREATED:20241029T175731Z
LAST-MODIFIED:20241029T175731Z
UID:41028-1743120000-1743206400@paroquiadecanidelo.pt
SUMMARY:Iniciativa 24 horas para o Senhor
DESCRIPTION:
URL:https://paroquiadecanidelo.pt/evento/iniciativa-24-horas-para-o-senhor/
LOCATION:Canidelo
CATEGORIES:Agenda Diocesana 2024/2025
END:VEVENT
END:VCALENDAR