BEGIN:VCALENDAR
VERSION:2.0
PRODID:-//Paróquia de Canidelo - ECPv6.15.20//NONSGML v1.0//EN
CALSCALE:GREGORIAN
METHOD:PUBLISH
X-ORIGINAL-URL:https://paroquiadecanidelo.pt
X-WR-CALDESC:Eventos para Paróquia de Canidelo
REFRESH-INTERVAL;VALUE=DURATION:PT1H
X-Robots-Tag:noindex
X-PUBLISHED-TTL:PT1H
BEGIN:VTIMEZONE
TZID:UTC
BEGIN:STANDARD
TZOFFSETFROM:+0000
TZOFFSETTO:+0000
TZNAME:UTC
DTSTART:20240101T000000
END:STANDARD
END:VTIMEZONE
BEGIN:VEVENT
DTSTART;VALUE=DATE:20250413
DTEND;VALUE=DATE:20250414
DTSTAMP:20260425T014107
CREATED:20241029T175839Z
LAST-MODIFIED:20241029T175839Z
UID:41030-1744502400-1744588799@paroquiadecanidelo.pt
SUMMARY:Domingo de Ramos na Paixão do Senhor
DESCRIPTION:
URL:https://paroquiadecanidelo.pt/evento/domingo-de-ramos-na-paixao-do-senhor/
LOCATION:Canidelo
CATEGORIES:Agenda Diocesana 2024/2025
END:VEVENT
END:VCALENDAR