BEGIN:VCALENDAR
VERSION:2.0
PRODID:-//Paróquia de Canidelo - ECPv6.15.20//NONSGML v1.0//EN
CALSCALE:GREGORIAN
METHOD:PUBLISH
X-WR-CALNAME:Paróquia de Canidelo
X-ORIGINAL-URL:https://paroquiadecanidelo.pt
X-WR-CALDESC:Eventos para Paróquia de Canidelo
REFRESH-INTERVAL;VALUE=DURATION:PT1H
X-Robots-Tag:noindex
X-PUBLISHED-TTL:PT1H
BEGIN:VTIMEZONE
TZID:UTC
BEGIN:STANDARD
TZOFFSETFROM:+0000
TZOFFSETTO:+0000
TZNAME:UTC
DTSTART:20250101T000000
END:STANDARD
END:VTIMEZONE
BEGIN:VEVENT
DTSTART;TZID=UTC:20260601T080000
DTEND;TZID=UTC:20260601T170000
DTSTAMP:20260423T223421
CREATED:20260420T142322Z
LAST-MODIFIED:20260420T142322Z
UID:43033-1780300800-1780333200@paroquiadecanidelo.pt
SUMMARY:Reunião dos Secretariados Diocesanos
DESCRIPTION:
URL:https://paroquiadecanidelo.pt/evento/reuniao-dos-secretariados-diocesanos/
CATEGORIES:Agenda Diocesana 2025/2028
END:VEVENT
BEGIN:VEVENT
DTSTART;TZID=UTC:20260602T080000
DTEND;TZID=UTC:20260607T170000
DTSTAMP:20260423T223421
CREATED:20260420T130944Z
LAST-MODIFIED:20260420T130944Z
UID:43011-1780387200-1780851600@paroquiadecanidelo.pt
SUMMARY:Visita Pastoral Afurada
DESCRIPTION:
URL:https://paroquiadecanidelo.pt/evento/visita-pastoral-afurada/
CATEGORIES:Agenda Diocesana 2025/2028
END:VEVENT
BEGIN:VEVENT
DTSTART;TZID=UTC:20260604T080000
DTEND;TZID=UTC:20260604T170000
DTSTAMP:20260423T223421
CREATED:20260420T142337Z
LAST-MODIFIED:20260420T142337Z
UID:43034-1780560000-1780592400@paroquiadecanidelo.pt
SUMMARY:Solenidade do Santíssimo Corpo e Sangue de Cristo
DESCRIPTION:
URL:https://paroquiadecanidelo.pt/evento/solenidade-do-santissimo-corpo-e-sangue-de-cristo-2/
CATEGORIES:Agenda Diocesana 2025/2028
END:VEVENT
BEGIN:VEVENT
DTSTART;TZID=UTC:20260605T080000
DTEND;TZID=UTC:20260605T170000
DTSTAMP:20260423T223421
CREATED:20260420T142352Z
LAST-MODIFIED:20260420T142352Z
UID:43035-1780646400-1780678800@paroquiadecanidelo.pt
SUMMARY:Dia do Colégio Diocesano de Gaia
DESCRIPTION:
URL:https://paroquiadecanidelo.pt/evento/dia-do-colegio-diocesano-de-gaia/
CATEGORIES:Agenda Diocesana 2025/2028
END:VEVENT
BEGIN:VEVENT
DTSTART;TZID=UTC:20260608T080000
DTEND;TZID=UTC:20260608T170000
DTSTAMP:20260423T223421
CREATED:20260420T142418Z
LAST-MODIFIED:20260420T142418Z
UID:43036-1780905600-1780938000@paroquiadecanidelo.pt
SUMMARY:Conselho Diocesano da Pastoral Universitária
DESCRIPTION:
URL:https://paroquiadecanidelo.pt/evento/conselho-diocesano-da-pastoral-universitaria-3/
CATEGORIES:Agenda Diocesana 2025/2028
END:VEVENT
BEGIN:VEVENT
DTSTART;TZID=UTC:20260612T210000
DTEND;TZID=UTC:20260612T230000
DTSTAMP:20260423T223421
CREATED:20260420T142515Z
LAST-MODIFIED:20260420T142515Z
UID:43037-1781298000-1781305200@paroquiadecanidelo.pt
SUMMARY:Solenidade do Sagrado Coração de Jesus
DESCRIPTION:
URL:https://paroquiadecanidelo.pt/evento/solenidade-do-sagrado-coracao-de-jesus/
LOCATION:Igreja Bom Pastoro\, Ermesinde
CATEGORIES:Agenda Diocesana 2025/2028
END:VEVENT
BEGIN:VEVENT
DTSTART;TZID=UTC:20260627T080000
DTEND;TZID=UTC:20260627T170000
DTSTAMP:20260423T223421
CREATED:20260420T142536Z
LAST-MODIFIED:20260420T142536Z
UID:43039-1782547200-1782579600@paroquiadecanidelo.pt
SUMMARY:Formação inicial de novos MEC
DESCRIPTION:
URL:https://paroquiadecanidelo.pt/evento/formacao-inicial-de-novos-mec/
CATEGORIES:Agenda Diocesana 2025/2028
END:VEVENT
END:VCALENDAR