BEGIN:VCALENDAR
VERSION:2.0
PRODID:-//Paróquia de Canidelo - ECPv6.15.20//NONSGML v1.0//EN
CALSCALE:GREGORIAN
METHOD:PUBLISH
X-ORIGINAL-URL:https://paroquiadecanidelo.pt
X-WR-CALDESC:Eventos para Paróquia de Canidelo
REFRESH-INTERVAL;VALUE=DURATION:PT1H
X-Robots-Tag:noindex
X-PUBLISHED-TTL:PT1H
BEGIN:VTIMEZONE
TZID:UTC
BEGIN:STANDARD
TZOFFSETFROM:+0000
TZOFFSETTO:+0000
TZNAME:UTC
DTSTART:20250101T000000
END:STANDARD
END:VTIMEZONE
BEGIN:VEVENT
DTSTART;TZID=UTC:20260704T080000
DTEND;TZID=UTC:20260704T170000
DTSTAMP:20260424T013030
CREATED:20260420T142552Z
LAST-MODIFIED:20260420T142552Z
UID:43040-1783152000-1783184400@paroquiadecanidelo.pt
SUMMARY:Formação inicial de novos MEC
DESCRIPTION:
URL:https://paroquiadecanidelo.pt/evento/formacao-inicial-de-novos-mec-2/
CATEGORIES:Agenda Diocesana 2025/2028
END:VEVENT
BEGIN:VEVENT
DTSTART;TZID=UTC:20260711T080000
DTEND;TZID=UTC:20260711T170000
DTSTAMP:20260424T013030
CREATED:20260420T142623Z
LAST-MODIFIED:20260420T142623Z
UID:43041-1783756800-1783789200@paroquiadecanidelo.pt
SUMMARY:XX Jornadas Catequéticas
DESCRIPTION:
URL:https://paroquiadecanidelo.pt/evento/xx-jornadas-catequeticas/
CATEGORIES:Agenda Diocesana 2025/2028
END:VEVENT
BEGIN:VEVENT
DTSTART;TZID=UTC:20260712T160000
DTEND;TZID=UTC:20260712T180000
DTSTAMP:20260424T013030
CREATED:20260420T142701Z
LAST-MODIFIED:20260420T142701Z
UID:43042-1783872000-1783879200@paroquiadecanidelo.pt
SUMMARY:Ordenações diaconais e Presbiterais
DESCRIPTION:
URL:https://paroquiadecanidelo.pt/evento/ordenacoes-diaconais-e-presbiterais/
LOCATION:Sé Catedral do Porto\, Terreiro da Sé\, Porto\, 4050-573 Porto\, Portugal
CATEGORIES:Agenda Diocesana 2025/2028
END:VEVENT
BEGIN:VEVENT
DTSTART;TZID=UTC:20260724T080000
DTEND;TZID=UTC:20260726T170000
DTSTAMP:20260424T013030
CREATED:20260420T142745Z
LAST-MODIFIED:20260420T142745Z
UID:43043-1784880000-1785085200@paroquiadecanidelo.pt
SUMMARY:24 a 26 – Encontro Nacional da Juventude
DESCRIPTION:
URL:https://paroquiadecanidelo.pt/evento/24-a-26-encontro-nacional-da-juventude/
LOCATION:Diocese Lamego
CATEGORIES:Agenda Diocesana 2025/2028
END:VEVENT
BEGIN:VEVENT
DTSTART;TZID=UTC:20260726T080000
DTEND;TZID=UTC:20260726T170000
DTSTAMP:20260424T013030
CREATED:20260420T142808Z
LAST-MODIFIED:20260420T142808Z
UID:43045-1785052800-1785085200@paroquiadecanidelo.pt
SUMMARY:6.º Dia Mundial dos Avós e Idosos
DESCRIPTION:
URL:https://paroquiadecanidelo.pt/evento/6-o-dia-mundial-dos-avos-e-idosos/
CATEGORIES:Agenda Diocesana 2025/2028
END:VEVENT
END:VCALENDAR