BEGIN:VCALENDAR
VERSION:2.0
PRODID:-//Paróquia de Canidelo - ECPv6.15.20//NONSGML v1.0//EN
CALSCALE:GREGORIAN
METHOD:PUBLISH
X-ORIGINAL-URL:https://paroquiadecanidelo.pt
X-WR-CALDESC:Eventos para Paróquia de Canidelo
REFRESH-INTERVAL;VALUE=DURATION:PT1H
X-Robots-Tag:noindex
X-PUBLISHED-TTL:PT1H
BEGIN:VTIMEZONE
TZID:UTC
BEGIN:STANDARD
TZOFFSETFROM:+0000
TZOFFSETTO:+0000
TZNAME:UTC
DTSTART:20250101T000000
END:STANDARD
END:VTIMEZONE
BEGIN:VEVENT
DTSTART;TZID=UTC:20260929T080000
DTEND;TZID=UTC:20261004T170000
DTSTAMP:20260424T055849
CREATED:20260420T131016Z
LAST-MODIFIED:20260420T131016Z
UID:43012-1790668800-1791133200@paroquiadecanidelo.pt
SUMMARY:Visita Pastoral Valadares
DESCRIPTION:
URL:https://paroquiadecanidelo.pt/evento/visita-pastoral-valadares/
CATEGORIES:Agenda Diocesana 2025/2028
END:VEVENT
BEGIN:VEVENT
DTSTART;TZID=UTC:20261006T080000
DTEND;TZID=UTC:20261011T170000
DTSTAMP:20260424T055849
CREATED:20260420T131043Z
LAST-MODIFIED:20260420T131043Z
UID:43013-1791273600-1791738000@paroquiadecanidelo.pt
SUMMARY:Visita Pastoral Vilar de Andorinho
DESCRIPTION:
URL:https://paroquiadecanidelo.pt/evento/visita-pastoral-vilar-de-andorinho/
CATEGORIES:Agenda Diocesana 2025/2028
END:VEVENT
BEGIN:VEVENT
DTSTART;TZID=UTC:20261013T080000
DTEND;TZID=UTC:20261018T170000
DTSTAMP:20260424T055849
CREATED:20260420T131109Z
LAST-MODIFIED:20260420T131109Z
UID:43014-1791878400-1792342800@paroquiadecanidelo.pt
SUMMARY:Visita Pastoral Coimbrões
DESCRIPTION:
URL:https://paroquiadecanidelo.pt/evento/visita-pastoral-coimbroes/
CATEGORIES:Agenda Diocesana 2025/2028
END:VEVENT
BEGIN:VEVENT
DTSTART;TZID=UTC:20261020T080000
DTEND;TZID=UTC:20261025T170000
DTSTAMP:20260424T055849
CREATED:20260420T131133Z
LAST-MODIFIED:20260420T131133Z
UID:43015-1792483200-1792947600@paroquiadecanidelo.pt
SUMMARY:Visita Pastoral Oliveira do Douro
DESCRIPTION:
URL:https://paroquiadecanidelo.pt/evento/visita-pastoral-oliveira-do-douro/
CATEGORIES:Agenda Diocesana 2025/2028
END:VEVENT
BEGIN:VEVENT
DTSTART;TZID=UTC:20261027T080000
DTEND;TZID=UTC:20261101T170000
DTSTAMP:20260424T055849
CREATED:20260420T131201Z
LAST-MODIFIED:20260420T131201Z
UID:43016-1793088000-1793552400@paroquiadecanidelo.pt
SUMMARY:Visita Pastoral Vilar do Paraíso
DESCRIPTION:
URL:https://paroquiadecanidelo.pt/evento/visita-pastoral-vilar-do-paraiso/
CATEGORIES:Agenda Diocesana 2025/2028
END:VEVENT
END:VCALENDAR