BEGIN:VCALENDAR
VERSION:2.0
PRODID:-//Paróquia de Canidelo - ECPv6.15.20//NONSGML v1.0//EN
CALSCALE:GREGORIAN
METHOD:PUBLISH
X-ORIGINAL-URL:https://paroquiadecanidelo.pt
X-WR-CALDESC:Eventos para Paróquia de Canidelo
REFRESH-INTERVAL;VALUE=DURATION:PT1H
X-Robots-Tag:noindex
X-PUBLISHED-TTL:PT1H
BEGIN:VTIMEZONE
TZID:UTC
BEGIN:STANDARD
TZOFFSETFROM:+0000
TZOFFSETTO:+0000
TZNAME:UTC
DTSTART:20250101T000000
END:STANDARD
END:VTIMEZONE
BEGIN:VEVENT
DTSTART;TZID=UTC:20261027T080000
DTEND;TZID=UTC:20261101T170000
DTSTAMP:20260424T073110
CREATED:20260420T131201Z
LAST-MODIFIED:20260420T131201Z
UID:43016-1793088000-1793552400@paroquiadecanidelo.pt
SUMMARY:Visita Pastoral Vilar do Paraíso
DESCRIPTION:
URL:https://paroquiadecanidelo.pt/evento/visita-pastoral-vilar-do-paraiso/
CATEGORIES:Agenda Diocesana 2025/2028
END:VEVENT
BEGIN:VEVENT
DTSTART;TZID=UTC:20261103T080000
DTEND;TZID=UTC:20261108T170000
DTSTAMP:20260424T073110
CREATED:20260420T131223Z
LAST-MODIFIED:20260420T131223Z
UID:43017-1793692800-1794157200@paroquiadecanidelo.pt
SUMMARY:Visita Pastoral Mafamude
DESCRIPTION:
URL:https://paroquiadecanidelo.pt/evento/visita-pastoral-mafamude/
CATEGORIES:Agenda Diocesana 2025/2028
END:VEVENT
BEGIN:VEVENT
DTSTART;TZID=UTC:20261117T080000
DTEND;TZID=UTC:20261122T170000
DTSTAMP:20260424T073110
CREATED:20260420T131254Z
LAST-MODIFIED:20260420T131254Z
UID:43018-1794902400-1795366800@paroquiadecanidelo.pt
SUMMARY:Visita Pastoral Candal
DESCRIPTION:
URL:https://paroquiadecanidelo.pt/evento/visita-pastoral-candal/
CATEGORIES:Agenda Diocesana 2025/2028
END:VEVENT
BEGIN:VEVENT
DTSTART;TZID=UTC:20261122T160000
DTEND;TZID=UTC:20261122T180000
DTSTAMP:20260424T073110
CREATED:20260420T121210Z
LAST-MODIFIED:20260420T121210Z
UID:43004-1795363200-1795370400@paroquiadecanidelo.pt
SUMMARY:Encerramento das Visitas Pastorais
DESCRIPTION:
URL:https://paroquiadecanidelo.pt/evento/encerramento-das-visitas-pastorais/
LOCATION:Igreja Matriz de Santo Ovídio
CATEGORIES:Agenda Diocesana 2025/2028
END:VEVENT
END:VCALENDAR