BEGIN:VCALENDAR
VERSION:2.0
PRODID:-//Paróquia de Canidelo - ECPv6.15.20//NONSGML v1.0//EN
CALSCALE:GREGORIAN
METHOD:PUBLISH
X-ORIGINAL-URL:https://paroquiadecanidelo.pt
X-WR-CALDESC:Eventos para Paróquia de Canidelo
REFRESH-INTERVAL;VALUE=DURATION:PT1H
X-Robots-Tag:noindex
X-PUBLISHED-TTL:PT1H
BEGIN:VTIMEZONE
TZID:UTC
BEGIN:STANDARD
TZOFFSETFROM:+0000
TZOFFSETTO:+0000
TZNAME:UTC
DTSTART:20240101T000000
END:STANDARD
END:VTIMEZONE
BEGIN:VEVENT
DTSTART;TZID=UTC:20250901T000000
DTEND;TZID=UTC:20251004T235900
DTSTAMP:20260424T102756
CREATED:20260420T113956Z
LAST-MODIFIED:20260420T113956Z
UID:42969-1756684800-1759622340@paroquiadecanidelo.pt
SUMMARY:Início do Tempo da Criação
DESCRIPTION:Sob o Tema: “Sementes de esperança”
URL:https://paroquiadecanidelo.pt/evento/inicio-do-tempo-da-criacao/
CATEGORIES:Agenda Diocesana 2025/2028
END:VEVENT
BEGIN:VEVENT
DTSTART;TZID=UTC:20250913T080000
DTEND;TZID=UTC:20250913T170000
DTSTAMP:20260424T102756
CREATED:20260420T114100Z
LAST-MODIFIED:20260420T114100Z
UID:42970-1757750400-1757782800@paroquiadecanidelo.pt
SUMMARY:Curso Geral de Catequistas (2 anos)
DESCRIPTION:SDEC
URL:https://paroquiadecanidelo.pt/evento/curso-geral-de-catequistas-2-anos/
CATEGORIES:Agenda Diocesana 2025/2028
END:VEVENT
BEGIN:VEVENT
DTSTART;TZID=UTC:20250913T080000
DTEND;TZID=UTC:20250913T170000
DTSTAMP:20260424T102756
CREATED:20260420T114130Z
LAST-MODIFIED:20260420T114130Z
UID:42971-1757750400-1757782800@paroquiadecanidelo.pt
SUMMARY:Conselho Diocesano da Pastoral Universitária
DESCRIPTION:SDPU
URL:https://paroquiadecanidelo.pt/evento/conselho-diocesano-da-pastoral-universitaria/
CATEGORIES:Agenda Diocesana 2025/2028
END:VEVENT
END:VCALENDAR