BEGIN:VCALENDAR
VERSION:2.0
PRODID:-//Paróquia de Canidelo - ECPv6.15.20//NONSGML v1.0//EN
CALSCALE:GREGORIAN
METHOD:PUBLISH
X-ORIGINAL-URL:https://paroquiadecanidelo.pt
X-WR-CALDESC:Eventos para Paróquia de Canidelo
REFRESH-INTERVAL;VALUE=DURATION:PT1H
X-Robots-Tag:noindex
X-PUBLISHED-TTL:PT1H
BEGIN:VTIMEZONE
TZID:UTC
BEGIN:STANDARD
TZOFFSETFROM:+0000
TZOFFSETTO:+0000
TZNAME:UTC
DTSTART:20240101T000000
END:STANDARD
END:VTIMEZONE
BEGIN:VEVENT
DTSTART;TZID=UTC:20250901T000000
DTEND;TZID=UTC:20251004T235900
DTSTAMP:20260424T073250
CREATED:20260420T113956Z
LAST-MODIFIED:20260420T113956Z
UID:42969-1756684800-1759622340@paroquiadecanidelo.pt
SUMMARY:Início do Tempo da Criação
DESCRIPTION:Sob o Tema: “Sementes de esperança”
URL:https://paroquiadecanidelo.pt/evento/inicio-do-tempo-da-criacao/
CATEGORIES:Agenda Diocesana 2025/2028
END:VEVENT
BEGIN:VEVENT
DTSTART;TZID=UTC:20251001T000000
DTEND;TZID=UTC:20251031T235900
DTSTAMP:20260424T073250
CREATED:20260420T114704Z
LAST-MODIFIED:20260420T114704Z
UID:42979-1759276800-1761955140@paroquiadecanidelo.pt
SUMMARY:Mês Missionário
DESCRIPTION:
URL:https://paroquiadecanidelo.pt/evento/mes-missionario/
CATEGORIES:Agenda Diocesana 2025/2028
END:VEVENT
BEGIN:VEVENT
DTSTART;TZID=UTC:20251002T210000
DTEND;TZID=UTC:20251002T230000
DTSTAMP:20260424T073250
CREATED:20260420T114751Z
LAST-MODIFIED:20260420T114751Z
UID:42980-1759438800-1759446000@paroquiadecanidelo.pt
SUMMARY:Formação: Catequese da Adolescência (acompanhamento anual online)
DESCRIPTION:
URL:https://paroquiadecanidelo.pt/evento/formacao-catequese-da-adolescencia-acompanhamento-anual-online/
CATEGORIES:Agenda Diocesana 2025/2028
END:VEVENT
END:VCALENDAR