BEGIN:VCALENDAR
VERSION:2.0
PRODID:-//Paróquia de Canidelo - ECPv6.15.20//NONSGML v1.0//EN
CALSCALE:GREGORIAN
METHOD:PUBLISH
X-WR-CALNAME:Paróquia de Canidelo
X-ORIGINAL-URL:https://paroquiadecanidelo.pt
X-WR-CALDESC:Eventos para Paróquia de Canidelo
REFRESH-INTERVAL;VALUE=DURATION:PT1H
X-Robots-Tag:noindex
X-PUBLISHED-TTL:PT1H
BEGIN:VTIMEZONE
TZID:UTC
BEGIN:STANDARD
TZOFFSETFROM:+0000
TZOFFSETTO:+0000
TZNAME:UTC
DTSTART:20250101T000000
END:STANDARD
END:VTIMEZONE
BEGIN:VEVENT
DTSTART;TZID=UTC:20260402T100000
DTEND;TZID=UTC:20260402T120000
DTSTAMP:20260423T193150
CREATED:20260420T114939Z
LAST-MODIFIED:20260420T114939Z
UID:42982-1775124000-1775131200@paroquiadecanidelo.pt
SUMMARY:Quinta-Feira Santa - Missa Crismal
DESCRIPTION:
URL:https://paroquiadecanidelo.pt/evento/quinta-feira-santa-missa-crismal/
LOCATION:Sé Catedral do Porto\, Terreiro da Sé\, Porto\, 4050-573 Porto\, Portugal
CATEGORIES:Agenda Diocesana 2025/2028
END:VEVENT
BEGIN:VEVENT
DTSTART;TZID=UTC:20260402T213000
DTEND;TZID=UTC:20260402T230000
DTSTAMP:20260423T193150
CREATED:20260420T115031Z
LAST-MODIFIED:20260420T115031Z
UID:42983-1775165400-1775170800@paroquiadecanidelo.pt
SUMMARY:Quinta-Feira Santa - Celebração da Missa da Ceia do Senhor
DESCRIPTION:
URL:https://paroquiadecanidelo.pt/evento/quinta-feira-santa-celebracao-da-missa-da-ceia-do-senhor/
LOCATION:Igreja Matriz Canidelo\, Largo de Santo André\, Vila Nova de Gaia\, Canidelo\, 4400-576 Vila Nova de Gaia\, Portugal
CATEGORIES:Agenda Diocesana 2025/2028
END:VEVENT
END:VCALENDAR