BEGIN:VCALENDAR
VERSION:2.0
PRODID:-//Paróquia de Canidelo - ECPv6.15.20//NONSGML v1.0//EN
CALSCALE:GREGORIAN
METHOD:PUBLISH
X-WR-CALNAME:Paróquia de Canidelo
X-ORIGINAL-URL:https://paroquiadecanidelo.pt
X-WR-CALDESC:Eventos para Paróquia de Canidelo
REFRESH-INTERVAL;VALUE=DURATION:PT1H
X-Robots-Tag:noindex
X-PUBLISHED-TTL:PT1H
BEGIN:VTIMEZONE
TZID:UTC
BEGIN:STANDARD
TZOFFSETFROM:+0000
TZOFFSETTO:+0000
TZNAME:UTC
DTSTART:20250101T000000
END:STANDARD
END:VTIMEZONE
BEGIN:VEVENT
DTSTART;TZID=UTC:20260403T213000
DTEND;TZID=UTC:20260403T230000
DTSTAMP:20260423T180408
CREATED:20260420T115111Z
LAST-MODIFIED:20260420T115111Z
UID:42984-1775251800-1775257200@paroquiadecanidelo.pt
SUMMARY:Sexta-Feira Santa - Celebração da Paixão do Senhor
DESCRIPTION:
URL:https://paroquiadecanidelo.pt/evento/sexta-feira-santa-celebracao-da-paixao-do-senhor/
LOCATION:Igreja Matriz Canidelo\, Largo de Santo André\, Vila Nova de Gaia\, Canidelo\, 4400-576 Vila Nova de Gaia\, Portugal
CATEGORIES:Agenda Diocesana 2025/2028
END:VEVENT
END:VCALENDAR