BEGIN:VCALENDAR
VERSION:2.0
PRODID:-//Paróquia de Canidelo - ECPv6.15.20//NONSGML v1.0//EN
CALSCALE:GREGORIAN
METHOD:PUBLISH
X-ORIGINAL-URL:https://paroquiadecanidelo.pt
X-WR-CALDESC:Eventos para Paróquia de Canidelo
REFRESH-INTERVAL;VALUE=DURATION:PT1H
X-Robots-Tag:noindex
X-PUBLISHED-TTL:PT1H
BEGIN:VTIMEZONE
TZID:UTC
BEGIN:STANDARD
TZOFFSETFROM:+0000
TZOFFSETTO:+0000
TZNAME:UTC
DTSTART:20250101T000000
END:STANDARD
END:VTIMEZONE
BEGIN:VEVENT
DTSTART;TZID=UTC:20260406T210000
DTEND;TZID=UTC:20260406T230000
DTSTAMP:20260423T193148
CREATED:20260420T115358Z
LAST-MODIFIED:20260420T115358Z
UID:42987-1775509200-1775516400@paroquiadecanidelo.pt
SUMMARY:Conselho Diocesano da Pastoral Universitária
DESCRIPTION:
URL:https://paroquiadecanidelo.pt/evento/conselho-diocesano-da-pastoral-universitaria-2/
CATEGORIES:Agenda Diocesana 2025/2028
END:VEVENT
END:VCALENDAR