BEGIN:VCALENDAR
VERSION:2.0
PRODID:-//Paróquia de Canidelo - ECPv6.15.20//NONSGML v1.0//EN
CALSCALE:GREGORIAN
METHOD:PUBLISH
X-WR-CALNAME:Paróquia de Canidelo
X-ORIGINAL-URL:https://paroquiadecanidelo.pt
X-WR-CALDESC:Eventos para Paróquia de Canidelo
REFRESH-INTERVAL;VALUE=DURATION:PT1H
X-Robots-Tag:noindex
X-PUBLISHED-TTL:PT1H
BEGIN:VTIMEZONE
TZID:UTC
BEGIN:STANDARD
TZOFFSETFROM:+0000
TZOFFSETTO:+0000
TZNAME:UTC
DTSTART:20250101T000000
END:STANDARD
END:VTIMEZONE
BEGIN:VEVENT
DTSTART;TZID=UTC:20260417T213000
DTEND;TZID=UTC:20260417T230000
DTSTAMP:20260423T193150
CREATED:20260420T120850Z
LAST-MODIFIED:20260420T120850Z
UID:43002-1776461400-1776466800@paroquiadecanidelo.pt
SUMMARY:Início das Visitas Pastorais
DESCRIPTION:Presença de todos os representantes das Paróquias da Vigararia Gaia Norte\, D. Manuel Linda e D. Roberto Mariz.
URL:https://paroquiadecanidelo.pt/evento/inicio-das-visitas-pastorais/
LOCATION:Paróquia Mafamude
CATEGORIES:Agenda Diocesana 2025/2028
END:VEVENT
END:VCALENDAR