BEGIN:VCALENDAR
VERSION:2.0
PRODID:-//Paróquia de Canidelo - ECPv6.15.20//NONSGML v1.0//EN
CALSCALE:GREGORIAN
METHOD:PUBLISH
X-WR-CALNAME:Paróquia de Canidelo
X-ORIGINAL-URL:https://paroquiadecanidelo.pt
X-WR-CALDESC:Eventos para Paróquia de Canidelo
REFRESH-INTERVAL;VALUE=DURATION:PT1H
X-Robots-Tag:noindex
X-PUBLISHED-TTL:PT1H
BEGIN:VTIMEZONE
TZID:UTC
BEGIN:STANDARD
TZOFFSETFROM:+0000
TZOFFSETTO:+0000
TZNAME:UTC
DTSTART:20250101T000000
END:STANDARD
END:VTIMEZONE
BEGIN:VEVENT
DTSTART;TZID=UTC:20260505T080000
DTEND;TZID=UTC:20260510T170000
DTSTAMP:20260423T210130
CREATED:20260420T130802Z
LAST-MODIFIED:20260420T130802Z
UID:43007-1777968000-1778432400@paroquiadecanidelo.pt
SUMMARY:Visita Pastoral Madalena
DESCRIPTION:
URL:https://paroquiadecanidelo.pt/evento/visita-pastoral-madalena/
CATEGORIES:Agenda Diocesana 2025/2028
END:VEVENT
BEGIN:VEVENT
DTSTART;TZID=UTC:20260509T210000
DTEND;TZID=UTC:20260509T230000
DTSTAMP:20260423T210130
CREATED:20260420T142011Z
LAST-MODIFIED:20260420T142011Z
UID:43023-1778360400-1778367600@paroquiadecanidelo.pt
SUMMARY:Oração ecuménica
DESCRIPTION:
URL:https://paroquiadecanidelo.pt/evento/oracao-ecumenica/
LOCATION:Igreja Cedofeita
CATEGORIES:Agenda Diocesana 2025/2028
END:VEVENT
END:VCALENDAR