BEGIN:VCALENDAR
VERSION:2.0
PRODID:-//Paróquia de Canidelo - ECPv6.15.20//NONSGML v1.0//EN
CALSCALE:GREGORIAN
METHOD:PUBLISH
X-WR-CALNAME:Paróquia de Canidelo
X-ORIGINAL-URL:https://paroquiadecanidelo.pt
X-WR-CALDESC:Eventos para Paróquia de Canidelo
REFRESH-INTERVAL;VALUE=DURATION:PT1H
X-Robots-Tag:noindex
X-PUBLISHED-TTL:PT1H
BEGIN:VTIMEZONE
TZID:UTC
BEGIN:STANDARD
TZOFFSETFROM:+0000
TZOFFSETTO:+0000
TZNAME:UTC
DTSTART:20250101T000000
END:STANDARD
END:VTIMEZONE
BEGIN:VEVENT
DTSTART;TZID=UTC:20260519T080000
DTEND;TZID=UTC:20260524T170000
DTSTAMP:20260423T210131
CREATED:20260420T130849Z
LAST-MODIFIED:20260420T130849Z
UID:43009-1779177600-1779642000@paroquiadecanidelo.pt
SUMMARY:Visita Pastoral Avintes
DESCRIPTION:
URL:https://paroquiadecanidelo.pt/evento/visita-pastoral-avintes/
CATEGORIES:Agenda Diocesana 2025/2028
END:VEVENT
END:VCALENDAR