BEGIN:VCALENDAR
VERSION:2.0
PRODID:-//Paróquia de Canidelo - ECPv6.15.20//NONSGML v1.0//EN
CALSCALE:GREGORIAN
METHOD:PUBLISH
X-WR-CALNAME:Paróquia de Canidelo
X-ORIGINAL-URL:https://paroquiadecanidelo.pt
X-WR-CALDESC:Eventos para Paróquia de Canidelo
REFRESH-INTERVAL;VALUE=DURATION:PT1H
X-Robots-Tag:noindex
X-PUBLISHED-TTL:PT1H
BEGIN:VTIMEZONE
TZID:UTC
BEGIN:STANDARD
TZOFFSETFROM:+0000
TZOFFSETTO:+0000
TZNAME:UTC
DTSTART:20250101T000000
END:STANDARD
END:VTIMEZONE
BEGIN:VEVENT
DTSTART;TZID=UTC:20260526T080000
DTEND;TZID=UTC:20260531T170000
DTSTAMP:20260423T210132
CREATED:20260420T130918Z
LAST-MODIFIED:20260420T130918Z
UID:43010-1779782400-1780246800@paroquiadecanidelo.pt
SUMMARY:Visita Pastoral Santo Ovídio
DESCRIPTION:
URL:https://paroquiadecanidelo.pt/evento/visita-pastoral-santo-ovidio/
CATEGORIES:Agenda Diocesana 2025/2028
END:VEVENT
BEGIN:VEVENT
DTSTART;TZID=UTC:20260531T080000
DTEND;TZID=UTC:20260531T170000
DTSTAMP:20260423T210132
CREATED:20260420T142203Z
LAST-MODIFIED:20260420T142203Z
UID:43029-1780214400-1780246800@paroquiadecanidelo.pt
SUMMARY:Solenidade da Santíssima Trindade
DESCRIPTION:
URL:https://paroquiadecanidelo.pt/evento/solenidade-da-santissima-trindade-2/
CATEGORIES:Agenda Diocesana 2025/2028
END:VEVENT
BEGIN:VEVENT
DTSTART;TZID=UTC:20260531T080000
DTEND;TZID=UTC:20260531T170000
DTSTAMP:20260423T210132
CREATED:20260420T142228Z
LAST-MODIFIED:20260420T142228Z
UID:43030-1780214400-1780246800@paroquiadecanidelo.pt
SUMMARY:Dia Diocesano da Família
DESCRIPTION:
URL:https://paroquiadecanidelo.pt/evento/dia-diocesano-da-familia/
LOCATION:Penafiel
CATEGORIES:Agenda Diocesana 2025/2028
END:VEVENT
BEGIN:VEVENT
DTSTART;TZID=UTC:20260531T080000
DTEND;TZID=UTC:20260531T170000
DTSTAMP:20260423T210132
CREATED:20260420T142254Z
LAST-MODIFIED:20260420T142254Z
UID:43032-1780214400-1780246800@paroquiadecanidelo.pt
SUMMARY:Data-limite para o requerimento de novos MEC
DESCRIPTION:
URL:https://paroquiadecanidelo.pt/evento/data-limite-para-o-requerimento-de-novos-mec/
CATEGORIES:Agenda Diocesana 2025/2028
END:VEVENT
END:VCALENDAR